BEGIN:VCALENDAR
VERSION:2.0
PRODID:-//Robert Frost Elementary PTSA - ECPv6.15.20//NONSGML v1.0//EN
CALSCALE:GREGORIAN
METHOD:PUBLISH
X-ORIGINAL-URL:https://frostptsa.org
X-WR-CALDESC:Events for Robert Frost Elementary PTSA
REFRESH-INTERVAL;VALUE=DURATION:PT1H
X-Robots-Tag:noindex
X-PUBLISHED-TTL:PT1H
BEGIN:VTIMEZONE
TZID:America/Los_Angeles
BEGIN:DAYLIGHT
TZOFFSETFROM:-0800
TZOFFSETTO:-0700
TZNAME:PDT
DTSTART:20230312T100000
END:DAYLIGHT
BEGIN:STANDARD
TZOFFSETFROM:-0700
TZOFFSETTO:-0800
TZNAME:PST
DTSTART:20231105T090000
END:STANDARD
BEGIN:DAYLIGHT
TZOFFSETFROM:-0800
TZOFFSETTO:-0700
TZNAME:PDT
DTSTART:20240310T100000
END:DAYLIGHT
BEGIN:STANDARD
TZOFFSETFROM:-0700
TZOFFSETTO:-0800
TZNAME:PST
DTSTART:20241103T090000
END:STANDARD
BEGIN:DAYLIGHT
TZOFFSETFROM:-0800
TZOFFSETTO:-0700
TZNAME:PDT
DTSTART:20250309T100000
END:DAYLIGHT
BEGIN:STANDARD
TZOFFSETFROM:-0700
TZOFFSETTO:-0800
TZNAME:PST
DTSTART:20251102T090000
END:STANDARD
END:VTIMEZONE
BEGIN:VEVENT
DTSTART;TZID=America/Los_Angeles:20241017T170000
DTEND;TZID=America/Los_Angeles:20241017T190000
DTSTAMP:20260421T062631
CREATED:20241009T170425Z
LAST-MODIFIED:20241009T170425Z
UID:947-1729184400-1729191600@frostptsa.org
SUMMARY:McTeacher's Night
DESCRIPTION:
URL:https://frostptsa.org/event/mcteachers-night/
LOCATION:McDonald’s\, 13636 100th Ave NE\, Kirkland\, WA\, United States
END:VEVENT
END:VCALENDAR