BEGIN:VCALENDAR
VERSION:2.0
PRODID:-//Robert Frost Elementary PTSA - ECPv6.15.20//NONSGML v1.0//EN
CALSCALE:GREGORIAN
METHOD:PUBLISH
X-ORIGINAL-URL:https://frostptsa.org
X-WR-CALDESC:Events for Robert Frost Elementary PTSA
REFRESH-INTERVAL;VALUE=DURATION:PT1H
X-Robots-Tag:noindex
X-PUBLISHED-TTL:PT1H
BEGIN:VTIMEZONE
TZID:America/Los_Angeles
BEGIN:DAYLIGHT
TZOFFSETFROM:-0800
TZOFFSETTO:-0700
TZNAME:PDT
DTSTART:20230312T100000
END:DAYLIGHT
BEGIN:STANDARD
TZOFFSETFROM:-0700
TZOFFSETTO:-0800
TZNAME:PST
DTSTART:20231105T090000
END:STANDARD
BEGIN:DAYLIGHT
TZOFFSETFROM:-0800
TZOFFSETTO:-0700
TZNAME:PDT
DTSTART:20240310T100000
END:DAYLIGHT
BEGIN:STANDARD
TZOFFSETFROM:-0700
TZOFFSETTO:-0800
TZNAME:PST
DTSTART:20241103T090000
END:STANDARD
BEGIN:DAYLIGHT
TZOFFSETFROM:-0800
TZOFFSETTO:-0700
TZNAME:PDT
DTSTART:20250309T100000
END:DAYLIGHT
BEGIN:STANDARD
TZOFFSETFROM:-0700
TZOFFSETTO:-0800
TZNAME:PST
DTSTART:20251102T090000
END:STANDARD
END:VTIMEZONE
BEGIN:VEVENT
DTSTART;VALUE=DATE:20241024
DTEND;VALUE=DATE:20241025
DTSTAMP:20260421T062717
CREATED:20241022T205846Z
LAST-MODIFIED:20241022T205846Z
UID:964-1729728000-1729814399@frostptsa.org
SUMMARY:Snack Drive
DESCRIPTION:
URL:https://frostptsa.org/event/snack-drive/
END:VEVENT
BEGIN:VEVENT
DTSTART;TZID=America/Los_Angeles:20241024T183000
DTEND;TZID=America/Los_Angeles:20241024T193000
DTSTAMP:20260421T062717
CREATED:20240828T154710Z
LAST-MODIFIED:20241001T215214Z
UID:887-1729794600-1729798200@frostptsa.org
SUMMARY:Trunk or Treat
DESCRIPTION:https://www.signupgenius.com/go/8050E4DA9A82DA3F58-51584471-2024#/
URL:https://frostptsa.org/event/trunk-or-treat/
LOCATION:Robert Frost Elementary\, 11801 NE 140th\, Kirkland\, 98034\, United States
END:VEVENT
END:VCALENDAR