BEGIN:VCALENDAR
VERSION:2.0
PRODID:-//Robert Frost Elementary PTSA - ECPv6.15.20//NONSGML v1.0//EN
CALSCALE:GREGORIAN
METHOD:PUBLISH
X-ORIGINAL-URL:https://frostptsa.org
X-WR-CALDESC:Events for Robert Frost Elementary PTSA
REFRESH-INTERVAL;VALUE=DURATION:PT1H
X-Robots-Tag:noindex
X-PUBLISHED-TTL:PT1H
BEGIN:VTIMEZONE
TZID:America/Los_Angeles
BEGIN:DAYLIGHT
TZOFFSETFROM:-0800
TZOFFSETTO:-0700
TZNAME:PDT
DTSTART:20250309T100000
END:DAYLIGHT
BEGIN:STANDARD
TZOFFSETFROM:-0700
TZOFFSETTO:-0800
TZNAME:PST
DTSTART:20251102T090000
END:STANDARD
BEGIN:DAYLIGHT
TZOFFSETFROM:-0800
TZOFFSETTO:-0700
TZNAME:PDT
DTSTART:20260308T100000
END:DAYLIGHT
BEGIN:STANDARD
TZOFFSETFROM:-0700
TZOFFSETTO:-0800
TZNAME:PST
DTSTART:20261101T090000
END:STANDARD
BEGIN:DAYLIGHT
TZOFFSETFROM:-0800
TZOFFSETTO:-0700
TZNAME:PDT
DTSTART:20270314T100000
END:DAYLIGHT
BEGIN:STANDARD
TZOFFSETFROM:-0700
TZOFFSETTO:-0800
TZNAME:PST
DTSTART:20271107T090000
END:STANDARD
END:VTIMEZONE
BEGIN:VEVENT
DTSTART;TZID=America/Los_Angeles:20260126T080000
DTEND;TZID=America/Los_Angeles:20260130T170000
DTSTAMP:20260419T225445
CREATED:20260114T153102Z
LAST-MODIFIED:20260114T153102Z
UID:1349-1769414400-1769792400@frostptsa.org
SUMMARY:Book Fair
DESCRIPTION:SIGN UP HERE to volunteer! \n 
URL:https://frostptsa.org/event/book-fair-6/
LOCATION:Robert Frost Library\, 11801 NE 140th St\, Kirkland\, WA\, 98034\, United States
END:VEVENT
END:VCALENDAR