BEGIN:VCALENDAR
VERSION:2.0
PRODID:-//Robert Frost Elementary PTSA - ECPv6.15.20//NONSGML v1.0//EN
CALSCALE:GREGORIAN
METHOD:PUBLISH
X-WR-CALNAME:Robert Frost Elementary PTSA
X-ORIGINAL-URL:https://frostptsa.org
X-WR-CALDESC:Events for Robert Frost Elementary PTSA
REFRESH-INTERVAL;VALUE=DURATION:PT1H
X-Robots-Tag:noindex
X-PUBLISHED-TTL:PT1H
BEGIN:VTIMEZONE
TZID:America/Los_Angeles
BEGIN:DAYLIGHT
TZOFFSETFROM:-0800
TZOFFSETTO:-0700
TZNAME:PDT
DTSTART:20220313T100000
END:DAYLIGHT
BEGIN:STANDARD
TZOFFSETFROM:-0700
TZOFFSETTO:-0800
TZNAME:PST
DTSTART:20221106T090000
END:STANDARD
BEGIN:DAYLIGHT
TZOFFSETFROM:-0800
TZOFFSETTO:-0700
TZNAME:PDT
DTSTART:20230312T100000
END:DAYLIGHT
BEGIN:STANDARD
TZOFFSETFROM:-0700
TZOFFSETTO:-0800
TZNAME:PST
DTSTART:20231105T090000
END:STANDARD
BEGIN:DAYLIGHT
TZOFFSETFROM:-0800
TZOFFSETTO:-0700
TZNAME:PDT
DTSTART:20240310T100000
END:DAYLIGHT
BEGIN:STANDARD
TZOFFSETFROM:-0700
TZOFFSETTO:-0800
TZNAME:PST
DTSTART:20241103T090000
END:STANDARD
BEGIN:DAYLIGHT
TZOFFSETFROM:-0800
TZOFFSETTO:-0700
TZNAME:PDT
DTSTART:20250309T100000
END:DAYLIGHT
BEGIN:STANDARD
TZOFFSETFROM:-0700
TZOFFSETTO:-0800
TZNAME:PST
DTSTART:20251102T090000
END:STANDARD
END:VTIMEZONE
BEGIN:VTIMEZONE
TZID:UTC
BEGIN:STANDARD
TZOFFSETFROM:+0000
TZOFFSETTO:+0000
TZNAME:UTC
DTSTART:20220101T000000
END:STANDARD
END:VTIMEZONE
BEGIN:VEVENT
DTSTART;TZID=America/Los_Angeles:20240911T091500
DTEND;TZID=America/Los_Angeles:20240911T142000
DTSTAMP:20260419T233549
CREATED:20240821T184500Z
LAST-MODIFIED:20240821T184500Z
UID:858-1726046100-1726064400@frostptsa.org
SUMMARY:Early Release Wednesdays Begin
DESCRIPTION:
URL:https://frostptsa.org/event/early-release-wednesdays-begin/
END:VEVENT
BEGIN:VEVENT
DTSTART;TZID=America/Los_Angeles:20240910T091500
DTEND;TZID=America/Los_Angeles:20240910T100000
DTSTAMP:20260419T233549
CREATED:20240826T202854Z
LAST-MODIFIED:20240826T202854Z
UID:880-1725959700-1725962400@frostptsa.org
SUMMARY:Kinders and Kleenex
DESCRIPTION:Meet up for Kindergarten caregivers at the Frost playground immediately after drop off at 9:15am
URL:https://frostptsa.org/event/kinders-and-kleenex/
LOCATION:Robert Frost Elementary\, 11801 NE 140th\, Kirkland\, 98034\, United States
END:VEVENT
BEGIN:VEVENT
DTSTART;TZID=America/Los_Angeles:20240903T091500
DTEND;TZID=America/Los_Angeles:20240903T122000
DTSTAMP:20260419T233549
CREATED:20240821T184354Z
LAST-MODIFIED:20240826T175759Z
UID:856-1725354900-1725366000@frostptsa.org
SUMMARY:First Day of School (grades 1-5)
DESCRIPTION:
URL:https://frostptsa.org/event/first-day-of-school-grades-1-5/
LOCATION:Robert Frost Elementary\, 11801 NE 140th\, Kirkland\, 98034\, United States
END:VEVENT
BEGIN:VEVENT
DTSTART;TZID=America/Los_Angeles:20240829T150000
DTEND;TZID=America/Los_Angeles:20240829T160000
DTSTAMP:20260419T233549
CREATED:20240821T174921Z
LAST-MODIFIED:20240821T174921Z
UID:824-1724943600-1724947200@frostptsa.org
SUMMARY:Meet and Greet
DESCRIPTION:
URL:https://frostptsa.org/event/meet-and-greet/
LOCATION:Robert Frost Elementary\, 11801 NE 140th\, Kirkland\, 98034\, United States
END:VEVENT
BEGIN:VEVENT
DTSTART;TZID=America/Los_Angeles:20240825T090000
DTEND;TZID=America/Los_Angeles:20240825T130000
DTSTAMP:20260419T233549
CREATED:20240627T054028Z
LAST-MODIFIED:20240821T175020Z
UID:814-1724576400-1724590800@frostptsa.org
SUMMARY:Community Serve Day
DESCRIPTION:CLICK HERE TO SIGN UP! \n 
URL:https://frostptsa.org/event/community-serve-day/
LOCATION:Robert Frost Elementary\, 11801 NE 140th\, Kirkland\, 98034\, United States
END:VEVENT
BEGIN:VEVENT
DTSTART;VALUE=DATE:20240527
DTEND;VALUE=DATE:20240528
DTSTAMP:20260419T233549
CREATED:20221103T050847Z
LAST-MODIFIED:20230831T203725Z
UID:192-1716768000-1716854399@frostptsa.org
SUMMARY:No School - Memorial Day
DESCRIPTION:
URL:https://frostptsa.org/event/no-school-memorial-day/
END:VEVENT
BEGIN:VEVENT
DTSTART;TZID=America/Los_Angeles:20240405T180000
DTEND;TZID=America/Los_Angeles:20240405T193000
DTSTAMP:20260419T233549
CREATED:20240325T074053Z
LAST-MODIFIED:20240325T074053Z
UID:763-1712340000-1712345400@frostptsa.org
SUMMARY:Frost Dance and Pizza Party
DESCRIPTION:
URL:https://frostptsa.org/event/frost-dance-and-pizza-party/
LOCATION:Robert Frost Elementary\, 11801 NE 140th\, Kirkland\, 98034\, United States
END:VEVENT
BEGIN:VEVENT
DTSTART;TZID=America/Los_Angeles:20240405T130000
DTEND;TZID=America/Los_Angeles:20240405T140000
DTSTAMP:20260419T233549
CREATED:20240325T074852Z
LAST-MODIFIED:20240325T074901Z
UID:777-1712322000-1712325600@frostptsa.org
SUMMARY:4th-5th Grade Author Visit: Ben Guterson
DESCRIPTION:
URL:https://frostptsa.org/event/4th-5th-grade-author-vist-ben-guterson/
LOCATION:Robert Frost Elementary\, 11801 NE 140th\, Kirkland\, 98034\, United States
END:VEVENT
BEGIN:VEVENT
DTSTART;TZID=America/Los_Angeles:20240404T190000
DTEND;TZID=America/Los_Angeles:20240404T203000
DTSTAMP:20260419T233549
CREATED:20240306T004624Z
LAST-MODIFIED:20240306T004624Z
UID:758-1712257200-1712262600@frostptsa.org
SUMMARY:Frost PTSA General Meeting
DESCRIPTION:
URL:https://frostptsa.org/event/frost-ptsa-general-meeting/
LOCATION:Robert Frost Elementary\, 11801 NE 140th\, Kirkland\, 98034\, United States
END:VEVENT
BEGIN:VEVENT
DTSTART;VALUE=DATE:20240401
DTEND;VALUE=DATE:20240406
DTSTAMP:20260419T233549
CREATED:20240325T074801Z
LAST-MODIFIED:20240325T074813Z
UID:774-1711929600-1712361599@frostptsa.org
SUMMARY:DANCE WEEK
DESCRIPTION:
URL:https://frostptsa.org/event/dance-week/
LOCATION:Robert Frost Elementary\, 11801 NE 140th\, Kirkland\, 98034\, United States
END:VEVENT
BEGIN:VEVENT
DTSTART;TZID=America/Los_Angeles:20240330T130000
DTEND;TZID=America/Los_Angeles:20240330T140000
DTSTAMP:20260419T233549
CREATED:20240325T074655Z
LAST-MODIFIED:20240325T074655Z
UID:772-1711803600-1711807200@frostptsa.org
SUMMARY:Aladdin (CAST B)
DESCRIPTION:Tickets can be purchased online until 3/27; and then at the door Cash/check only.
URL:https://frostptsa.org/event/aladdin-cast-b-2/
LOCATION:Robert Frost Elementary\, 11801 NE 140th\, Kirkland\, 98034\, United States
END:VEVENT
BEGIN:VEVENT
DTSTART;TZID=America/Los_Angeles:20240330T110000
DTEND;TZID=America/Los_Angeles:20240330T120000
DTSTAMP:20260419T233549
CREATED:20240325T074623Z
LAST-MODIFIED:20240325T074623Z
UID:770-1711796400-1711800000@frostptsa.org
SUMMARY:Aladdin (CAST A)
DESCRIPTION:Tickets can be purchased online until 3/27; and then at the door Cash/check only.
URL:https://frostptsa.org/event/aladdin-cast-a-2/
LOCATION:Robert Frost Elementary\, 11801 NE 140th\, Kirkland\, 98034\, United States
END:VEVENT
BEGIN:VEVENT
DTSTART;TZID=America/Los_Angeles:20240329T190000
DTEND;TZID=America/Los_Angeles:20240329T200000
DTSTAMP:20260419T233549
CREATED:20240325T074535Z
LAST-MODIFIED:20240325T074734Z
UID:768-1711738800-1711742400@frostptsa.org
SUMMARY:Aladdin (CAST B)
DESCRIPTION:Tickets can be purchased online until 3/27; and then at the door Cash/check only.
URL:https://frostptsa.org/event/aladdin-cast-b/
LOCATION:Robert Frost Elementary\, 11801 NE 140th\, Kirkland\, 98034\, United States
END:VEVENT
BEGIN:VEVENT
DTSTART;TZID=America/Los_Angeles:20240328T190000
DTEND;TZID=America/Los_Angeles:20240328T200000
DTSTAMP:20260419T233549
CREATED:20240325T074403Z
LAST-MODIFIED:20240325T074718Z
UID:765-1711652400-1711656000@frostptsa.org
SUMMARY:Aladdin  (CAST A)
DESCRIPTION:Tickets can be purchased online until 3/27; and then at the door Cash/check only.
URL:https://frostptsa.org/event/aladdin-cast-a/
LOCATION:Robert Frost Elementary\, 11801 NE 140th\, Kirkland\, 98034\, United States
END:VEVENT
BEGIN:VEVENT
DTSTART;TZID=UTC:20240301T083000
DTEND;TZID=UTC:20240301T103000
DTSTAMP:20260419T233549
CREATED:20221103T044607Z
LAST-MODIFIED:20230831T204808Z
UID:147-1709281800-1709289000@frostptsa.org
SUMMARY:Popcorn Friday
DESCRIPTION:
URL:https://frostptsa.org/event/popcorn-friday-3/
LOCATION:Volunteer
END:VEVENT
BEGIN:VEVENT
DTSTART;TZID=UTC:20240202T083000
DTEND;TZID=UTC:20240202T103000
DTSTAMP:20260419T233549
CREATED:20221103T044701Z
LAST-MODIFIED:20230831T204132Z
UID:149-1706862600-1706869800@frostptsa.org
SUMMARY:Popcorn Friday
DESCRIPTION:
URL:https://frostptsa.org/event/popcorn-friday-4/
LOCATION:Volunteer
END:VEVENT
BEGIN:VEVENT
DTSTART;VALUE=DATE:20240202
DTEND;VALUE=DATE:20240203
DTSTAMP:20260419T233549
CREATED:20240201T225852Z
LAST-MODIFIED:20240201T225852Z
UID:749-1706832000-1706918399@frostptsa.org
SUMMARY:Spirit Day - Sports!
DESCRIPTION:
URL:https://frostptsa.org/event/spirit-day-sports/
END:VEVENT
BEGIN:VEVENT
DTSTART;TZID=America/Los_Angeles:20240201T190000
DTEND;TZID=America/Los_Angeles:20240201T203000
DTSTAMP:20260419T233549
CREATED:20240126T011445Z
LAST-MODIFIED:20240126T011445Z
UID:733-1706814000-1706819400@frostptsa.org
SUMMARY:PTSA General Meeting
DESCRIPTION:
URL:https://frostptsa.org/event/ptsa-general-meeting-3/
LOCATION:Robert Frost Elementary\, 11801 NE 140th\, Kirkland\, 98034\, United States
END:VEVENT
BEGIN:VEVENT
DTSTART;VALUE=DATE:20240130
DTEND;VALUE=DATE:20240209
DTSTAMP:20260419T233549
CREATED:20240126T011605Z
LAST-MODIFIED:20240126T011605Z
UID:735-1706572800-1707436799@frostptsa.org
SUMMARY:APEX: School Wide Fun Run Fundraiser
DESCRIPTION:
URL:https://frostptsa.org/event/apex-school-wide-fun-run-fundraiser/
LOCATION:Robert Frost Elementary\, 11801 NE 140th\, Kirkland\, 98034\, United States
END:VEVENT
BEGIN:VEVENT
DTSTART;TZID=America/Los_Angeles:20240126T123000
DTEND;TZID=America/Los_Angeles:20240126T170000
DTSTAMP:20260419T233549
CREATED:20240126T011855Z
LAST-MODIFIED:20240126T011855Z
UID:739-1706272200-1706288400@frostptsa.org
SUMMARY:Bookfair! Open until 5pm after school!
DESCRIPTION:
URL:https://frostptsa.org/event/bookfair-open-until-5pm-after-school-2/
LOCATION:Robert Frost Elementary\, 11801 NE 140th\, Kirkland\, 98034\, United States
END:VEVENT
BEGIN:VEVENT
DTSTART;TZID=America/Los_Angeles:20240125T123000
DTEND;TZID=America/Los_Angeles:20240125T170000
DTSTAMP:20260419T233549
CREATED:20240126T011801Z
LAST-MODIFIED:20240126T011801Z
UID:737-1706185800-1706202000@frostptsa.org
SUMMARY:Bookfair! Open until 5pm after school!
DESCRIPTION:
URL:https://frostptsa.org/event/bookfair-open-until-5pm-after-school/
END:VEVENT
BEGIN:VEVENT
DTSTART;TZID=America/Los_Angeles:20240124T143000
DTEND;TZID=America/Los_Angeles:20240124T170000
DTSTAMP:20260419T233549
CREATED:20240126T011957Z
LAST-MODIFIED:20240126T011957Z
UID:741-1706106600-1706115600@frostptsa.org
SUMMARY:Bookfair! Open until 5pm after school!
DESCRIPTION:
URL:https://frostptsa.org/event/bookfair-open-until-5pm-after-school-3/
LOCATION:Robert Frost Elementary\, 11801 NE 140th\, Kirkland\, 98034\, United States
END:VEVENT
BEGIN:VEVENT
DTSTART;TZID=America/Los_Angeles:20240123T123000
DTEND;TZID=America/Los_Angeles:20240123T170000
DTSTAMP:20260419T233549
CREATED:20240126T012040Z
LAST-MODIFIED:20240126T012040Z
UID:743-1706013000-1706029200@frostptsa.org
SUMMARY:Bookfair! Open until 5pm after school!
DESCRIPTION:
URL:https://frostptsa.org/event/bookfair-open-until-5pm-after-school-4/
LOCATION:Robert Frost Elementary\, 11801 NE 140th\, Kirkland\, 98034\, United States
END:VEVENT
BEGIN:VEVENT
DTSTART;TZID=America/Los_Angeles:20240122T155000
DTEND;TZID=America/Los_Angeles:20240122T170000
DTSTAMP:20260419T233549
CREATED:20240126T012130Z
LAST-MODIFIED:20240126T012130Z
UID:745-1705938600-1705942800@frostptsa.org
SUMMARY:Bookfair! Open until 5pm after school!
DESCRIPTION:
URL:https://frostptsa.org/event/bookfair-open-until-5pm-after-school-5/
LOCATION:Robert Frost Elementary\, 11801 NE 140th\, Kirkland\, 98034\, United States
END:VEVENT
BEGIN:VEVENT
DTSTART;TZID=UTC:20240105T083000
DTEND;TZID=UTC:20240105T103000
DTSTAMP:20260419T233549
CREATED:20221103T052209Z
LAST-MODIFIED:20230831T204050Z
UID:196-1704443400-1704450600@frostptsa.org
SUMMARY:Popcorn Friday
DESCRIPTION:
URL:https://frostptsa.org/event/popcorn-friday-5/
LOCATION:Robert Frost Elementary\, 11801 NE 140th\, Kirkland\, 98034\, United States
END:VEVENT
BEGIN:VEVENT
DTSTART;TZID=America/Los_Angeles:20231207T190000
DTEND;TZID=America/Los_Angeles:20231207T203000
DTSTAMP:20260419T233549
CREATED:20231108T223651Z
LAST-MODIFIED:20231108T223651Z
UID:709-1701975600-1701981000@frostptsa.org
SUMMARY:PTSA General Meeting
DESCRIPTION:
URL:https://frostptsa.org/event/ptsa-general-meeting-2/
LOCATION:Robert Frost Elementary\, 11801 NE 140th\, Kirkland\, 98034\, United States
END:VEVENT
BEGIN:VEVENT
DTSTART;VALUE=DATE:20231203
DTEND;VALUE=DATE:20231208
DTSTAMP:20260419T233549
CREATED:20231130T174903Z
LAST-MODIFIED:20231130T175053Z
UID:721-1701561600-1701993599@frostptsa.org
SUMMARY:SNAPDOODLE FUNDRAISER
DESCRIPTION:
URL:https://frostptsa.org/event/snapdoodle-fundraiser/
END:VEVENT
BEGIN:VEVENT
DTSTART;TZID=UTC:20231201T083000
DTEND;TZID=UTC:20231201T103000
DTSTAMP:20260419T233549
CREATED:20221103T052236Z
LAST-MODIFIED:20230831T203918Z
UID:198-1701419400-1701426600@frostptsa.org
SUMMARY:Popcorn Friday
DESCRIPTION:
URL:https://frostptsa.org/event/popcorn-friday-6/
LOCATION:Robert Frost Elementary\, 11801 NE 140th\, Kirkland\, 98034\, United States
END:VEVENT
BEGIN:VEVENT
DTSTART;VALUE=DATE:20231127
DTEND;VALUE=DATE:20231128
DTSTAMP:20260419T233549
CREATED:20231108T222226Z
LAST-MODIFIED:20231108T222226Z
UID:698-1701043200-1701129599@frostptsa.org
SUMMARY:Yearbook Cover Art Contest Submissions Due!
DESCRIPTION:Frost will be having a yearbook cover art contest! Frost teachers and staff will pick the winner! All entries will be in our yearbook in some capacity. Here are the details:\n\n\n*Have students design the cover by using 8.5×11 computer paper.\n*Use portrait style (vertical) on 8.5” x 11” paper.\n*Use bold and bright colors!\n*Markers\, crayons\, and paint work best.\n*All words must be ¼ inch away from the border/edge.\n*Only one submission per student. Please write your name/grade/teacher on the back.\n*Turn in your best work!\n\n\nMake sure “Robert Frost Elementary School 2023-2024” is somewhere on the page.\n\n\nAll work is due by Monday\, November 27 by end of day. No late entries will be accepted.\n\n\nWrite YOUR NAME and TEACHER’S NAME IN PENCIL on the back of your entry.\n\n\nHAVE FUN!!
URL:https://frostptsa.org/event/yearbook-cover-art-contest-submissions-due/
LOCATION:Robert Frost Elementary\, 11801 NE 140th\, Kirkland\, 98034\, United States
END:VEVENT
BEGIN:VEVENT
DTSTART;TZID=America/Los_Angeles:20231121T090000
DTEND;TZID=America/Los_Angeles:20231121T093000
DTSTAMP:20260419T233549
CREATED:20231108T223043Z
LAST-MODIFIED:20231108T223043Z
UID:703-1700557200-1700559000@frostptsa.org
SUMMARY:Staff Appreciation: Thanksgiving Edition
DESCRIPTION:For staff appreciation in the month of November we hope to create a spread of pies and fall-themed treats for the staff and teachers. \nPlease consider donating!\n\n\nPTSA: Happy THANKSgiving! (signupgenius.com)
URL:https://frostptsa.org/event/staff-appreciation-thanksgiving-edition/
LOCATION:Robert Frost Elementary\, 11801 NE 140th\, Kirkland\, 98034\, United States
END:VEVENT
END:VCALENDAR