BEGIN:VCALENDAR
VERSION:2.0
PRODID:-//Robert Frost Elementary PTSA - ECPv6.15.20//NONSGML v1.0//EN
CALSCALE:GREGORIAN
METHOD:PUBLISH
X-WR-CALNAME:Robert Frost Elementary PTSA
X-ORIGINAL-URL:https://frostptsa.org
X-WR-CALDESC:Events for Robert Frost Elementary PTSA
REFRESH-INTERVAL;VALUE=DURATION:PT1H
X-Robots-Tag:noindex
X-PUBLISHED-TTL:PT1H
BEGIN:VTIMEZONE
TZID:UTC
BEGIN:STANDARD
TZOFFSETFROM:+0000
TZOFFSETTO:+0000
TZNAME:UTC
DTSTART:20210101T000000
END:STANDARD
END:VTIMEZONE
BEGIN:VTIMEZONE
TZID:America/Los_Angeles
BEGIN:DAYLIGHT
TZOFFSETFROM:-0800
TZOFFSETTO:-0700
TZNAME:PDT
DTSTART:20210314T100000
END:DAYLIGHT
BEGIN:STANDARD
TZOFFSETFROM:-0700
TZOFFSETTO:-0800
TZNAME:PST
DTSTART:20211107T090000
END:STANDARD
BEGIN:DAYLIGHT
TZOFFSETFROM:-0800
TZOFFSETTO:-0700
TZNAME:PDT
DTSTART:20220313T100000
END:DAYLIGHT
BEGIN:STANDARD
TZOFFSETFROM:-0700
TZOFFSETTO:-0800
TZNAME:PST
DTSTART:20221106T090000
END:STANDARD
BEGIN:DAYLIGHT
TZOFFSETFROM:-0800
TZOFFSETTO:-0700
TZNAME:PDT
DTSTART:20230312T100000
END:DAYLIGHT
BEGIN:STANDARD
TZOFFSETFROM:-0700
TZOFFSETTO:-0800
TZNAME:PST
DTSTART:20231105T090000
END:STANDARD
BEGIN:DAYLIGHT
TZOFFSETFROM:-0800
TZOFFSETTO:-0700
TZNAME:PDT
DTSTART:20240310T100000
END:DAYLIGHT
BEGIN:STANDARD
TZOFFSETFROM:-0700
TZOFFSETTO:-0800
TZNAME:PST
DTSTART:20241103T090000
END:STANDARD
END:VTIMEZONE
BEGIN:VEVENT
DTSTART;VALUE=DATE:20231116
DTEND;VALUE=DATE:20231117
DTSTAMP:20260419T233933
CREATED:20221103T011310Z
LAST-MODIFIED:20231108T222605Z
UID:132-1700092800-1700179199@frostptsa.org
SUMMARY:MOD Pizza Fundraiser (Totem Lake)
DESCRIPTION:  \n  \n  \n  \nPromo Code: MODGIVES25 \n  \nFrost MOD Pizza Night is BACK! \nLet MOD at Totem Lake make your lunch/dinner on Thursday\, Nov. 16th. \n25% of your bill supports the Frost PTSA. \nBonus: since we booked this during back-to-school season\, we can win an additional $1\,000 if we are one of the top 3 schools with the highest sales. \nSo please mark your calendar for a win-win-win evening: no meal prep\, delicious food\, and raising money for the PTSA! Please mention Frost PTSA at checkout or use code MODGIVES25 for online orders. THANK YOU for your support!!!
URL:https://frostptsa.org/event/mod-pizza-fundraiser/
END:VEVENT
BEGIN:VEVENT
DTSTART;TZID=UTC:20231103T083000
DTEND;TZID=UTC:20231103T103000
DTSTAMP:20260419T233933
CREATED:20221103T052303Z
LAST-MODIFIED:20230831T203813Z
UID:200-1699000200-1699007400@frostptsa.org
SUMMARY:Popcorn Friday
DESCRIPTION:
URL:https://frostptsa.org/event/popcorn-friday-7/
LOCATION:Robert Frost Elementary\, 11801 NE 140th\, Kirkland\, 98034\, United States
END:VEVENT
BEGIN:VEVENT
DTSTART;VALUE=DATE:20231102
DTEND;VALUE=DATE:20231103
DTSTAMP:20260419T233933
CREATED:20221103T052540Z
LAST-MODIFIED:20230831T204857Z
UID:208-1698883200-1698969599@frostptsa.org
SUMMARY:School Picture Re-take
DESCRIPTION:
URL:https://frostptsa.org/event/school-picture-re-take/
END:VEVENT
BEGIN:VEVENT
DTSTART;TZID=UTC:20231006T083000
DTEND;TZID=UTC:20231006T103000
DTSTAMP:20260419T233933
CREATED:20221103T052332Z
LAST-MODIFIED:20230831T203633Z
UID:202-1696581000-1696588200@frostptsa.org
SUMMARY:Popcorn Friday
DESCRIPTION:
URL:https://frostptsa.org/event/popcorn-friday-8/
LOCATION:Robert Frost Elementary\, 11801 NE 140th\, Kirkland\, 98034\, United States
END:VEVENT
BEGIN:VEVENT
DTSTART;TZID=UTC:20230928T190000
DTEND;TZID=UTC:20230928T203000
DTSTAMP:20260419T233933
CREATED:20221103T052828Z
LAST-MODIFIED:20230831T203540Z
UID:216-1695927600-1695933000@frostptsa.org
SUMMARY:PTSA General Meeting
DESCRIPTION:
URL:https://frostptsa.org/event/ptsa-general-meeting-4/
LOCATION:Volunteer
END:VEVENT
BEGIN:VEVENT
DTSTART;VALUE=DATE:20230925
DTEND;VALUE=DATE:20230926
DTSTAMP:20260419T233933
CREATED:20221130T034847Z
LAST-MODIFIED:20230912T173541Z
UID:406-1695600000-1695686399@frostptsa.org
SUMMARY:Fall Enrichment Enrollment Deadline
DESCRIPTION:2023 Fall Enrichment Enrollments due by September  25\, 2023. \nSee Programs Page for more info.
URL:https://frostptsa.org/event/intramural-dodgeball-enrollment-deadline/
LOCATION:Robert Frost Elementary\, 11801 NE 140th\, Kirkland\, 98034\, United States
END:VEVENT
BEGIN:VEVENT
DTSTART;VALUE=DATE:20230921
DTEND;VALUE=DATE:20230922
DTSTAMP:20260419T233933
CREATED:20221026T110142Z
LAST-MODIFIED:20230831T205005Z
UID:55-1695254400-1695340799@frostptsa.org
SUMMARY:School Picture Day
DESCRIPTION:
URL:https://frostptsa.org/event/ptsa-general-meeting/
LOCATION:Volunteer
END:VEVENT
BEGIN:VEVENT
DTSTART;TZID=America/Los_Angeles:20230915T093000
DTEND;TZID=America/Los_Angeles:20230915T103000
DTSTAMP:20260419T233933
CREATED:20230112T021513Z
LAST-MODIFIED:20230831T204601Z
UID:462-1694770200-1694773800@frostptsa.org
SUMMARY:Principal Coffee Chat
DESCRIPTION:Hello! \nThis is an informal forum to meet and dialogue with Principal Hultman on any questions or topics you may have. \nTime: 9:30a-10:30a \nLocation: Covered Basketball area (if weather is good); Arts and Sciences Room if inclement weather. \n(remember to sign in at the Frost Office) \nIf you prefer to remain anonymous\, please feel free to email FrostPTSAPresident@gmail.com to flow through “community inquiry” questions that the PTSA can ask on your behalf. \nLooking forward to seeing you there! \nFrost PTSA \n  \n 
URL:https://frostptsa.org/event/principal-coffee-chat-2/
LOCATION:Robert Frost Elementary\, 11801 NE 140th\, Kirkland\, 98034\, United States
END:VEVENT
BEGIN:VEVENT
DTSTART;TZID=America/Los_Angeles:20230914T183000
DTEND;TZID=America/Los_Angeles:20230914T200000
DTSTAMP:20260419T233933
CREATED:20230914T151330Z
LAST-MODIFIED:20230914T151330Z
UID:666-1694716200-1694721600@frostptsa.org
SUMMARY:Ice Cream Social
DESCRIPTION:
URL:https://frostptsa.org/event/ice-cream-social/
LOCATION:Robert Frost Elementary\, 11801 NE 140th\, Kirkland\, 98034\, United States
END:VEVENT
BEGIN:VEVENT
DTSTART;TZID=UTC:20230912T091500
DTEND;TZID=UTC:20230912T101500
DTSTAMP:20260419T233933
CREATED:20221026T105728Z
LAST-MODIFIED:20230911T163522Z
UID:54-1694510100-1694513700@frostptsa.org
SUMMARY:Kindy's and Kleenex
DESCRIPTION:Here’s to all you parents seeing off your Frost Kindergarteners for their first regular day of Kindergarteners. Stop by the PTSA table to grab a doughnut and coffee and conversation to meet other parents and learn about others’ Frost experience! \nSee you there!
URL:https://frostptsa.org/event/walk-to-school-day/
LOCATION:Robert Frost Elementary\, 11801 NE 140th\, Kirkland\, 98034\, United States
END:VEVENT
BEGIN:VEVENT
DTSTART;VALUE=DATE:20230905
DTEND;VALUE=DATE:20230908
DTSTAMP:20260419T233933
CREATED:20221103T050414Z
LAST-MODIFIED:20230831T204705Z
UID:180-1693872000-1694131199@frostptsa.org
SUMMARY:Half Day - Conferences
DESCRIPTION:
URL:https://frostptsa.org/event/half-day-conferences-2/
END:VEVENT
BEGIN:VEVENT
DTSTART;TZID=America/Los_Angeles:20230831T150000
DTEND;TZID=America/Los_Angeles:20230831T160000
DTSTAMP:20260419T233933
CREATED:20230831T205507Z
LAST-MODIFIED:20230831T205507Z
UID:640-1693494000-1693497600@frostptsa.org
SUMMARY:Teacher Meet and Greet
DESCRIPTION:
URL:https://frostptsa.org/event/teacher-meet-and-greet/
LOCATION:Robert Frost Elementary\, 11801 NE 140th\, Kirkland\, 98034\, United States
END:VEVENT
BEGIN:VEVENT
DTSTART;VALUE=DATE:20230526
DTEND;VALUE=DATE:20230527
DTSTAMP:20260419T233933
CREATED:20221103T050823Z
LAST-MODIFIED:20221113T230527Z
UID:190-1685059200-1685145599@frostptsa.org
SUMMARY:No School - LEAP Day
DESCRIPTION:
URL:https://frostptsa.org/event/no-school-leap-day-2/
END:VEVENT
BEGIN:VEVENT
DTSTART;VALUE=DATE:20230410
DTEND;VALUE=DATE:20230415
DTSTAMP:20260419T233933
CREATED:20221103T050757Z
LAST-MODIFIED:20221113T230527Z
UID:188-1681084800-1681516799@frostptsa.org
SUMMARY:No School - Spring Break
DESCRIPTION:
URL:https://frostptsa.org/event/no-school-spring-break/
END:VEVENT
BEGIN:VEVENT
DTSTART;VALUE=DATE:20230310
DTEND;VALUE=DATE:20230311
DTSTAMP:20260419T233933
CREATED:20221103T050728Z
LAST-MODIFIED:20221113T230527Z
UID:186-1678406400-1678492799@frostptsa.org
SUMMARY:No School - LEAP Day
DESCRIPTION:
URL:https://frostptsa.org/event/no-school-leap-day/
END:VEVENT
BEGIN:VEVENT
DTSTART;TZID=America/Los_Angeles:20230222T110000
DTEND;TZID=America/Los_Angeles:20230222T200000
DTSTAMP:20260419T233933
CREATED:20230207T070138Z
LAST-MODIFIED:20230207T070138Z
UID:534-1677063600-1677096000@frostptsa.org
SUMMARY:Joe's Burgers (Totem Lake) Fundraiser
DESCRIPTION:From 11am to 8pm\, come grab a bite from Joe’s Burgers in Totem Lake –> It’s the little burger hut in the middle of the parking lot across from Cinemark Cinemas. \n20% of all In-store sales & 10% of online orders through ChowNow will be donated to the Robert Frost PTSA. \n \n 
URL:https://frostptsa.org/event/joes-burgers-totem-lake-fundraiser/
LOCATION:Joe’s Burgers\, 11910 NE Village Plaza\, Kirkland\, WA\, 98034\, United States
END:VEVENT
BEGIN:VEVENT
DTSTART;VALUE=DATE:20230220
DTEND;VALUE=DATE:20230221
DTSTAMP:20260419T233933
CREATED:20221103T050710Z
LAST-MODIFIED:20221113T230527Z
UID:184-1676851200-1676937599@frostptsa.org
SUMMARY:No School - President's Day
DESCRIPTION:
URL:https://frostptsa.org/event/no-school-presidents-day/
END:VEVENT
BEGIN:VEVENT
DTSTART;VALUE=DATE:20230216
DTEND;VALUE=DATE:20230218
DTSTAMP:20260419T233933
CREATED:20221103T050643Z
LAST-MODIFIED:20221114T155112Z
UID:182-1676505600-1676678399@frostptsa.org
SUMMARY:No School - Mid-Winter Break
DESCRIPTION:
URL:https://frostptsa.org/event/no-school-mid-winter-break/
END:VEVENT
BEGIN:VEVENT
DTSTART;TZID=America/Los_Angeles:20230126T110000
DTEND;TZID=America/Los_Angeles:20230126T210000
DTSTAMP:20260419T233933
CREATED:20230118T210428Z
LAST-MODIFIED:20230118T210428Z
UID:461-1674730800-1674766800@frostptsa.org
SUMMARY:Panda Express (Totem Lake) Fundraiser
DESCRIPTION:Totem Lake Panda Express Fundraiser for Robert Frost PTSA\n\n20% of event sales will be donated to the Frost PTSA\n\n\n\n\n\nWhen\nThursday\, January 26\, 2023 !\nTime: 11:00 AM to 9:00 PM !\n\n\nWhere\nPanda Express located at:\n12632 Totem Lake Blvd. Ne Kirkland WA 98034\n(425) 968 – 2068\n\n\n\n\nHow to Order:\n\nOnline: PandaExpress.com or the App.\nEnter 349180 in the fundraiser code box \n\n\n\nor\n\nIn-Person:  Bring paper flyer or show it on your smartphone and mention Frost PTSA Fundraiser\n\n\nOrder ahead or on the event day Thursday\, January 26\, 2023
URL:https://frostptsa.org/event/panda-express-totem-lake-fundraiser/
LOCATION:Panda Express\, 12632 Totem Lake Blvd. Ne\, Kirkland\, WA\, 98034\, United States
END:VEVENT
BEGIN:VEVENT
DTSTART;VALUE=DATE:20230124
DTEND;VALUE=DATE:20230125
DTSTAMP:20260419T233933
CREATED:20221103T050352Z
LAST-MODIFIED:20221103T050352Z
UID:178-1674518400-1674604799@frostptsa.org
SUMMARY:Half Day - Conferences
DESCRIPTION:
URL:https://frostptsa.org/event/half-day-conferences/
END:VEVENT
BEGIN:VEVENT
DTSTART;VALUE=DATE:20230116
DTEND;VALUE=DATE:20230117
DTSTAMP:20260419T233933
CREATED:20221103T050250Z
LAST-MODIFIED:20221103T050250Z
UID:176-1673827200-1673913599@frostptsa.org
SUMMARY:No School - MLK Day
DESCRIPTION:
URL:https://frostptsa.org/event/no-school-mlk-day/
END:VEVENT
BEGIN:VEVENT
DTSTART;VALUE=DATE:20221219
DTEND;VALUE=DATE:20230103
DTSTAMP:20260419T233933
CREATED:20221103T045910Z
LAST-MODIFIED:20221103T045910Z
UID:167-1671408000-1672703999@frostptsa.org
SUMMARY:No School - Winter Break
DESCRIPTION:
URL:https://frostptsa.org/event/no-school/
END:VEVENT
BEGIN:VEVENT
DTSTART;TZID=UTC:20221209T093000
DTEND;TZID=UTC:20221209T163000
DTSTAMP:20260419T233933
CREATED:20221103T045642Z
LAST-MODIFIED:20221103T045642Z
UID:165-1670578200-1670603400@frostptsa.org
SUMMARY:Book Fair
DESCRIPTION:
URL:https://frostptsa.org/event/book-fair-5/
LOCATION:Volunteer
END:VEVENT
BEGIN:VEVENT
DTSTART;TZID=America/Los_Angeles:20221208T180000
DTEND;TZID=America/Los_Angeles:20221208T200000
DTSTAMP:20260419T233933
CREATED:20221114T154711Z
LAST-MODIFIED:20221114T154758Z
UID:272-1670522400-1670529600@frostptsa.org
SUMMARY:Book Fair - Family Fun Night (Free)
DESCRIPTION:Come in PJs\, or anything comfortable and munch on cookies and enjoy other activities with the Frost community. (ParentSquare dates reflecting Dec 9 will be corrected to Dec 8) \nLocation: Frost Commons and Library
URL:https://frostptsa.org/event/book-fair-family-fun-night/
LOCATION:Robert Frost Elementary\, 11801 NE 140th\, Kirkland\, 98034\, United States
END:VEVENT
BEGIN:VEVENT
DTSTART;TZID=UTC:20221208T093000
DTEND;TZID=UTC:20221208T163000
DTSTAMP:20260419T233933
CREATED:20221103T045613Z
LAST-MODIFIED:20221103T045613Z
UID:163-1670491800-1670517000@frostptsa.org
SUMMARY:Book Fair
DESCRIPTION:
URL:https://frostptsa.org/event/book-fair-4/
LOCATION:Volunteer
END:VEVENT
BEGIN:VEVENT
DTSTART;TZID=UTC:20221207T093000
DTEND;TZID=UTC:20221207T163000
DTSTAMP:20260419T233933
CREATED:20221103T045543Z
LAST-MODIFIED:20221103T045543Z
UID:161-1670405400-1670430600@frostptsa.org
SUMMARY:Book Fair
DESCRIPTION:
URL:https://frostptsa.org/event/book-fair-3/
LOCATION:Volunteer
END:VEVENT
BEGIN:VEVENT
DTSTART;TZID=UTC:20221206T093000
DTEND;TZID=UTC:20221206T163000
DTSTAMP:20260419T233933
CREATED:20221103T045520Z
LAST-MODIFIED:20221103T045520Z
UID:159-1670319000-1670344200@frostptsa.org
SUMMARY:Book Fair
DESCRIPTION:
URL:https://frostptsa.org/event/book-fair-2/
LOCATION:Volunteer
END:VEVENT
BEGIN:VEVENT
DTSTART;TZID=America/Los_Angeles:20221205T093000
DTEND;TZID=America/Los_Angeles:20221205T155000
DTSTAMP:20260419T233933
CREATED:20221114T153541Z
LAST-MODIFIED:20221114T153541Z
UID:267-1670232600-1670255400@frostptsa.org
SUMMARY:Book Fair - Student Preview Day
DESCRIPTION:
URL:https://frostptsa.org/event/book-fair-student-preview-day-2/
LOCATION:Robert Frost Elementary\, 11801 NE 140th\, Kirkland\, 98034\, United States
END:VEVENT
BEGIN:VEVENT
DTSTART;TZID=America/Los_Angeles:20221205T083000
DTEND;TZID=America/Los_Angeles:20221205T160000
DTSTAMP:20260419T233933
CREATED:20221123T235841Z
LAST-MODIFIED:20221124T000008Z
UID:383-1670229000-1670256000@frostptsa.org
SUMMARY:Holiday Giving Campaign - Donations Due (Portable 4)
DESCRIPTION:Our Title 1 School has a higher-than-average population of students who come from low-income families. We received more requests for holiday season support than ever before\, with 105 families signing up. We have a bold but achievable goal of matching each need with a generous member of our community. \nWe are asking members of our community to help support Frost’s Holiday Gift Donations. Your generosity will bring relief and joy to students and families in our community. \n\n\n\nHOLIDAY GIVING SIGN-UP \n\n\n\nWe thank you for considering supporting our huge effort this year. If you are able to help\, please consider signing up to help a Frost family. Each slot has information regarding family size and children’s ages. Once you select a family\, we will promptly email you the family Wishlist. \n\n\n\nIn addition to gifts\, we are also accepting gift cards to Fred Meyer in increments of $25. \n\n\n\nThank you in advance for your generosity and support. \n\n\n\nHere are some key deadlines: \n\n\n\n\nMonday\, December 5th: Gifts and gift cards donations DUE\n\nDrop off at School in portable 8:30-4:00. Leave gifts with volunteers inside the portable.\n\n\n\n\n\n\nInstructions \n\n\n\n\nPlease deliver unwrapped gifts clearly labeled with the family number and child age.\n\n\n\nIf you choose to donate a Gift Card:\n\n Sign up for the children/family first that requested gift cards. We are taking increments of 25$.\n\n\n\n\n\n\nQuestions? Contact Frost PTSA (frostptsa@gmail.com)\, or Allie Moses (amoses@lwsd.org) \n\n\n\nSchool Contacts: \n\n\n\nEmail: amoses@lwsd.org (Allie Moses)
URL:https://frostptsa.org/event/holiday-giving-campaign-donations-due-portable-4/
LOCATION:Robert Frost Elementary\, 11801 NE 140th\, Kirkland\, 98034\, United States
END:VEVENT
BEGIN:VEVENT
DTSTART;TZID=UTC:20221202T100000
DTEND;TZID=UTC:20221202T110000
DTSTAMP:20260419T233933
CREATED:20221103T035256Z
LAST-MODIFIED:20221103T035256Z
UID:145-1669975200-1669978800@frostptsa.org
SUMMARY:Popcorn Friday
DESCRIPTION:
URL:https://frostptsa.org/event/popcorn-friday-2/
END:VEVENT
END:VCALENDAR