BEGIN:VCALENDAR
VERSION:2.0
PRODID:-//Robert Frost Elementary PTSA - ECPv6.15.20//NONSGML v1.0//EN
CALSCALE:GREGORIAN
METHOD:PUBLISH
X-WR-CALNAME:Robert Frost Elementary PTSA
X-ORIGINAL-URL:https://frostptsa.org
X-WR-CALDESC:Events for Robert Frost Elementary PTSA
REFRESH-INTERVAL;VALUE=DURATION:PT1H
X-Robots-Tag:noindex
X-PUBLISHED-TTL:PT1H
BEGIN:VTIMEZONE
TZID:UTC
BEGIN:STANDARD
TZOFFSETFROM:+0000
TZOFFSETTO:+0000
TZNAME:UTC
DTSTART:20210101T000000
END:STANDARD
END:VTIMEZONE
BEGIN:VTIMEZONE
TZID:America/Los_Angeles
BEGIN:DAYLIGHT
TZOFFSETFROM:-0800
TZOFFSETTO:-0700
TZNAME:PDT
DTSTART:20210314T100000
END:DAYLIGHT
BEGIN:STANDARD
TZOFFSETFROM:-0700
TZOFFSETTO:-0800
TZNAME:PST
DTSTART:20211107T090000
END:STANDARD
BEGIN:DAYLIGHT
TZOFFSETFROM:-0800
TZOFFSETTO:-0700
TZNAME:PDT
DTSTART:20220313T100000
END:DAYLIGHT
BEGIN:STANDARD
TZOFFSETFROM:-0700
TZOFFSETTO:-0800
TZNAME:PST
DTSTART:20221106T090000
END:STANDARD
BEGIN:DAYLIGHT
TZOFFSETFROM:-0800
TZOFFSETTO:-0700
TZNAME:PDT
DTSTART:20230312T100000
END:DAYLIGHT
BEGIN:STANDARD
TZOFFSETFROM:-0700
TZOFFSETTO:-0800
TZNAME:PST
DTSTART:20231105T090000
END:STANDARD
END:VTIMEZONE
BEGIN:VEVENT
DTSTART;TZID=UTC:20221202T100000
DTEND;TZID=UTC:20221202T110000
DTSTAMP:20260419T233806
CREATED:20221103T035256Z
LAST-MODIFIED:20221103T035256Z
UID:145-1669975200-1669978800@frostptsa.org
SUMMARY:Popcorn Friday
DESCRIPTION:
URL:https://frostptsa.org/event/popcorn-friday-2/
END:VEVENT
BEGIN:VEVENT
DTSTART;TZID=America/Los_Angeles:20221202T093000
DTEND;TZID=America/Los_Angeles:20221202T155000
DTSTAMP:20260419T233806
CREATED:20221114T153458Z
LAST-MODIFIED:20221114T153458Z
UID:265-1669973400-1669996200@frostptsa.org
SUMMARY:Book Fair - Student Preview Day
DESCRIPTION:
URL:https://frostptsa.org/event/book-fair-student-preview-day/
LOCATION:Robert Frost Elementary\, 11801 NE 140th\, Kirkland\, 98034\, United States
END:VEVENT
BEGIN:VEVENT
DTSTART;TZID=America/Los_Angeles:20221201T170000
DTEND;TZID=America/Los_Angeles:20221201T200000
DTSTAMP:20260419T233806
CREATED:20221121T220638Z
LAST-MODIFIED:20221121T220638Z
UID:366-1669914000-1669924800@frostptsa.org
SUMMARY:Totem Lake Snapdoodle Fundraiser
DESCRIPTION:Looking to check holiday gifts off your to-do list? \nSnapdoodle will donate 20% of all purchases made between 5pm-8pm on December 1 to Robert Frost Elementary PTSA. \nStop by and support your local business and your Robert Frost PTSA!
URL:https://frostptsa.org/event/totem-lake-snapdoodle-fundraiser/
LOCATION:Snapdoodle Toys\, Snapdoodle Toys (Totem Lake)\, Kirkland\, WA\, 98034\, United States
END:VEVENT
BEGIN:VEVENT
DTSTART;VALUE=DATE:20221124
DTEND;VALUE=DATE:20221126
DTSTAMP:20260419T233806
CREATED:20221103T050141Z
LAST-MODIFIED:20221103T050141Z
UID:172-1669248000-1669420799@frostptsa.org
SUMMARY:No School - Thanksgiving
DESCRIPTION:
URL:https://frostptsa.org/event/no-school-thanksgiving/
END:VEVENT
BEGIN:VEVENT
DTSTART;VALUE=DATE:20221123
DTEND;VALUE=DATE:20221124
DTSTAMP:20260419T233806
CREATED:20221103T050221Z
LAST-MODIFIED:20221103T050221Z
UID:174-1669161600-1669247999@frostptsa.org
SUMMARY:Frost Half-Day
DESCRIPTION:
URL:https://frostptsa.org/event/frost-half-day/
END:VEVENT
BEGIN:VEVENT
DTSTART;TZID=America/Los_Angeles:20221114T080000
DTEND;TZID=America/Los_Angeles:20221205T163000
DTSTAMP:20260419T233806
CREATED:20221115T020452Z
LAST-MODIFIED:20221115T020825Z
UID:313-1668412800-1670257800@frostptsa.org
SUMMARY:PTSA Yearbook Cover Contest (due Dec 5)
DESCRIPTION:Yearbook Art Cover Contest!\n\n\nFrost will be having a yearbook cover art contest!  Frost teachers and staff will pick the winner! All entries will be in our yearbook in some capacity. Here are the details: \n\nHave students design the cover by using 8.5×11 computer paper.\n\nUse portrait style (vertical) on 8.5” x 11” paper. \n\n\nUse bold and bright colors! \n\nMarkers\, crayons\, and paint work best.\nAll words must be ¼ inch away from the border/edge.\nOnly one submission per student.\nTurn in your best work!\nMake sure Robert Frost elementary school 2022-2023 is somewhere on the page \nAll work is due by Monday December 5 by end of day. No late entries will be accepted. \nWrite YOUR NAME and TEACHER’S NAME IN PENCIL on the back of your entry\n\nQuestions? Please email Bri Adams at badams@lwsd.org
URL:https://frostptsa.org/event/ptsa-yearbook-cover-contest/
END:VEVENT
BEGIN:VEVENT
DTSTART;VALUE=DATE:20221111
DTEND;VALUE=DATE:20221112
DTSTAMP:20260419T233806
CREATED:20221103T050055Z
LAST-MODIFIED:20221103T050055Z
UID:170-1668124800-1668211199@frostptsa.org
SUMMARY:No School - Veteran's Day
DESCRIPTION:
URL:https://frostptsa.org/event/no-school-veterans-day/
END:VEVENT
BEGIN:VEVENT
DTSTART;TZID=UTC:20221104T100000
DTEND;TZID=UTC:20221104T110000
DTSTAMP:20260419T233806
CREATED:20221103T010956Z
LAST-MODIFIED:20221103T010956Z
UID:130-1667556000-1667559600@frostptsa.org
SUMMARY:Popcorn Friday
DESCRIPTION:
URL:https://frostptsa.org/event/popcorn-friday/
LOCATION:Volunteer
END:VEVENT
BEGIN:VEVENT
DTSTART;VALUE=DATE:20221104
DTEND;VALUE=DATE:20221105
DTSTAMP:20260419T233806
CREATED:20221103T010902Z
LAST-MODIFIED:20221103T010902Z
UID:128-1667520000-1667606399@frostptsa.org
SUMMARY:Reflections Contest submissions Due
DESCRIPTION:Reflections Contest Submissions are Due Friday 11/4. Please email all inquiries and submissions to FrostPTSAReflections@gmail.com.
URL:https://frostptsa.org/event/reflections-contest-submissions-due/
END:VEVENT
END:VCALENDAR